BEGIN:VCALENDAR
VERSION:2.0
PRODID:-//Trzebnicki Klub Psa - ECPv5.9.1//NONSGML v1.0//EN
CALSCALE:GREGORIAN
METHOD:PUBLISH
X-WR-CALNAME:Trzebnicki Klub Psa
X-ORIGINAL-URL:https://trzebnickiklubpsa.pl
X-WR-CALDESC:Wydarzenia na Trzebnicki Klub Psa
BEGIN:VTIMEZONE
TZID:Europe/Warsaw
BEGIN:DAYLIGHT
TZOFFSETFROM:+0100
TZOFFSETTO:+0200
TZNAME:CEST
DTSTART:20190331T010000
END:DAYLIGHT
BEGIN:STANDARD
TZOFFSETFROM:+0200
TZOFFSETTO:+0100
TZNAME:CET
DTSTART:20191027T010000
END:STANDARD
END:VTIMEZONE
BEGIN:VEVENT
DTSTART;VALUE=DATE:20190914
DTEND;VALUE=DATE:20190915
DTSTAMP:20260422T025822
CREATED:20210718T121318Z
LAST-MODIFIED:20210726T112147Z
UID:3248-1568419200-1568505599@trzebnickiklubpsa.pl
SUMMARY:V Trzebnickie Zawody w Dogtrekkingu
DESCRIPTION:Spotykamy się już po raz piąty!\nCzym jest nasz Dogtrekking?\nTo nic innego jak spacer z psem 🙂 Jedyna różnica zwykłego spaceru to:\n– mapka \,którą dostaniesz tuż przed startem i będziesz musiał odnaleźć się w terenie\n– punkty\, do których będziesz musiał dojść (będą zaznaczone na mapce) i wykonać określone zadanie\n– tempo: tutaj jest mini rywalizacja gdyż jest to swego rodzaju konkurs tak więc dostosuj tempo marszu-biegu do siebie\, swojej drużyny i przede wszystkim psa i dotrzyj do mety w miarę szybko 😉 \n  \nTrasę i kategorie wybierasz sam. Przewidujemy trasę krótszą (kilka kilometrów w kategorii rodzinnej) oraz dłuższą (kilkanaście kilometrów w kategoriach drużynowej oraz indywidualnej z podziałem na kobiety i mężczyzn). Więcej informacji o trasach przekażemy wkrótce.\nPamiętaj o tym\, że pies powinien mieć szelki\, a ty odpowiedni strój 🙂\nUczestnictwo w Dogtrekkingu jest bezpłatne\, a udział w nim może wziąć każdy.\nRegulamin zawodów:\nhttp://www.trzebnickiklubpsa.pl/pobrania/Regulamin-2019.pdf\nFormularz zgłoszeniowy:\nhttps://docs.google.com/…/1FAIpQLScJAXocgO8…/viewform…\nKażdy uczestnik ma zagwarantowaną dobrą zabawę\, mały poczęstunek oraz dyplom z drobnym upominkiem 🙂\nZAPRASZAMY 14.09.2019 DO TRZEBNICY !!!!\nDO ZOBACZENIA!
URL:https://trzebnickiklubpsa.pl/event/v-trzebnickie-zawody-w-dogtrekkingu/
LOCATION:Trzebnica\, ul. Leśna 2\, Trzebnica\, dolnośląskie\, 55-100\, Poland
CATEGORIES:Zawody sportowe
END:VEVENT
END:VCALENDAR